BEGIN:VCALENDAR
VERSION:2.0
PRODID:Events Booking
BEGIN:VEVENT
UID:69e7473b5acec
SUMMARY:Treatment of Pelvic Floor and Colorectal Functional Disease
DESCRIPTION:
DTSTART:20131113T230000Z
DTEND:20131113T230000Z
DTSTAMP:20260421T094531Z
ORGANIZER;CN=Askservice:MAILTO:info@askservice.it
END:VEVENT
END:VCALENDAR